BEGIN:VCALENDAR
VERSION:2.0
PRODID:-//Tukios.com/
BEGIN:VEVENT
UID:e7be0f6e-8b6f-41b1-a8d8-77c2ba18add3@www.ashelawn.com
DTSTAMP:20260425T195758Z
DTSTART:20260428T180000Z
DTEND:20260428T190000Z
SUMMARY:Funeral Service
DESCRIPTION:
URL:https://www.ashelawn.com/obituaries/billy-bill-hart
LOCATION:Ashelawn Memorial Chapel & Gardens 3470 U.S. Highway 221 North  
	Jefferson NC 28640
GEO:36.4382409;-81.4302591
END:VEVENT
END:VCALENDAR