BEGIN:VCALENDAR
VERSION:2.0
PRODID:-//Tukios.com/
BEGIN:VEVENT
UID:b253d102-28b4-44fd-8149-05e21defc2a4@www.ashelawn.com
DTSTAMP:20260425T195947Z
DTSTART:20260428T160000Z
DTEND:20260428T180000Z
SUMMARY:Visitation
DESCRIPTION:
URL:https://www.ashelawn.com/obituaries/billy-bill-hart
LOCATION:Ashelawn Memorial Chapel & Gardens 3470 U.S. Highway 221 North  
	Jefferson NC 28640
GEO:36.4382409;-81.4302591
END:VEVENT
END:VCALENDAR